BEGIN:VCALENDAR
X-WR-TIMEZONE:Europe/London
PRODID:-//Apple Inc.//iCal 3.0//EN
CALSCALE:GREGORIAN
X-LOTUS-CHARSET:UTF-8
VERSION:2.0
METHOD:PUBLISH
BEGIN:VEVENT
DTSTAMP:20260420T102300
DTSTART;VALUE=DATE:20260713
UID:http://www.hollygrove.greenhousecms.co.uk/Diary/Year-6-Parliament-Trip-London-2026-07-13/index.asp?PCID=48048
URL;VALUE=URI:http://www.hollygrove.greenhousecms.co.uk/Diary/Year-6-Parliament-Trip-London-2026-07-13
SUMMARY:Year 6 Parliament Trip (London)
DESCRIPTION:; More details - http://www.hollygrove.greenhousecms.co.uk/Diary/Year-6-Parliament-Trip-London-2026-07-13
PRIORITY:5
CLASS:PUBLIC
BEGIN:VALARM
TRIGGER:-PT15M
ACTION:DISPLAY
DESCRIPTION:Reminder
END:VALARM
END:VEVENT
END:VCALENDAR
