BEGIN:VCALENDAR
X-WR-TIMEZONE:Europe/London
PRODID:-//Apple Inc.//iCal 3.0//EN
CALSCALE:GREGORIAN
X-LOTUS-CHARSET:UTF-8
VERSION:2.0
METHOD:PUBLISH
BEGIN:VEVENT
DTSTAMP:20260420T102400
DTSTART;VALUE=DATE-TIME:20260617T160000
DTEND;VALUE=DATE-TIME:20260617T170000
UID:http://www.hollygrove.greenhousecms.co.uk/Diary/Primitas-year-6-speaking-competition-2026-06-17/index.asp?PCID=48047
URL;VALUE=URI:http://www.hollygrove.greenhousecms.co.uk/Diary/Primitas-year-6-speaking-competition-2026-06-17
SUMMARY:Primitas year 6 speaking competition
DESCRIPTION:; More details - http://www.hollygrove.greenhousecms.co.uk/Diary/Primitas-year-6-speaking-competition-2026-06-17
PRIORITY:5
CLASS:PUBLIC
BEGIN:VALARM
TRIGGER:-PT15M
ACTION:DISPLAY
DESCRIPTION:Reminder
END:VALARM
END:VEVENT
END:VCALENDAR
