BEGIN:VCALENDAR
X-WR-TIMEZONE:Europe/London
PRODID:-//Apple Inc.//iCal 3.0//EN
CALSCALE:GREGORIAN
X-LOTUS-CHARSET:UTF-8
VERSION:2.0
METHOD:PUBLISH
BEGIN:VEVENT
DTSTAMP:20260422T092900
DTSTART;VALUE=DATE-TIME:20260602T093000
DTEND;VALUE=DATE-TIME:20260602T120000
UID:http://www.hollygrove.greenhousecms.co.uk/Diary/Knife-Crime-Workshops-2026-06-02/index.asp?PCID=48044
URL;VALUE=URI:http://www.hollygrove.greenhousecms.co.uk/Diary/Knife-Crime-Workshops-2026-06-02
SUMMARY:Knife Crime Workshops
DESCRIPTION:; More details - http://www.hollygrove.greenhousecms.co.uk/Diary/Knife-Crime-Workshops-2026-06-02
PRIORITY:5
CLASS:PUBLIC
BEGIN:VALARM
TRIGGER:-PT15M
ACTION:DISPLAY
DESCRIPTION:Reminder
END:VALARM
END:VEVENT
END:VCALENDAR
