BEGIN:VCALENDAR
X-WR-TIMEZONE:Europe/London
PRODID:-//Apple Inc.//iCal 3.0//EN
CALSCALE:GREGORIAN
X-LOTUS-CHARSET:UTF-8
VERSION:2.0
METHOD:PUBLISH
BEGIN:VEVENT
DTSTAMP:20260420T102200
DTSTART;VALUE=DATE:20260518
UID:http://www.hollygrove.greenhousecms.co.uk/Diary/EDA-Library-Staff-to-visit-Year-5-2026-05-18/index.asp?PCID=48042
URL;VALUE=URI:http://www.hollygrove.greenhousecms.co.uk/Diary/EDA-Library-Staff-to-visit-Year-5-2026-05-18
SUMMARY:EDA Library Staff to visit Year 5
DESCRIPTION:; More details - http://www.hollygrove.greenhousecms.co.uk/Diary/EDA-Library-Staff-to-visit-Year-5-2026-05-18
PRIORITY:5
CLASS:PUBLIC
BEGIN:VALARM
TRIGGER:-PT15M
ACTION:DISPLAY
DESCRIPTION:Reminder
END:VALARM
END:VEVENT
END:VCALENDAR
